BEGIN:VCALENDAR
VERSION:2.0
PRODID:-//FYFIELD VILLAGE HALL - ECPv6.15.20//NONSGML v1.0//EN
CALSCALE:GREGORIAN
METHOD:PUBLISH
X-WR-CALNAME:FYFIELD VILLAGE HALL
X-ORIGINAL-URL:https://fyfieldvillagehall.org.uk
X-WR-CALDESC:Events for FYFIELD VILLAGE HALL
REFRESH-INTERVAL;VALUE=DURATION:PT1H
X-Robots-Tag:noindex
X-PUBLISHED-TTL:PT1H
BEGIN:VTIMEZONE
TZID:Europe/London
BEGIN:DAYLIGHT
TZOFFSETFROM:+0000
TZOFFSETTO:+0100
TZNAME:BST
DTSTART:20210328T010000
END:DAYLIGHT
BEGIN:STANDARD
TZOFFSETFROM:+0100
TZOFFSETTO:+0000
TZNAME:GMT
DTSTART:20211031T010000
END:STANDARD
BEGIN:DAYLIGHT
TZOFFSETFROM:+0000
TZOFFSETTO:+0100
TZNAME:BST
DTSTART:20220327T010000
END:DAYLIGHT
BEGIN:STANDARD
TZOFFSETFROM:+0100
TZOFFSETTO:+0000
TZNAME:GMT
DTSTART:20221030T010000
END:STANDARD
BEGIN:DAYLIGHT
TZOFFSETFROM:+0000
TZOFFSETTO:+0100
TZNAME:BST
DTSTART:20230326T010000
END:DAYLIGHT
BEGIN:STANDARD
TZOFFSETFROM:+0100
TZOFFSETTO:+0000
TZNAME:GMT
DTSTART:20231029T010000
END:STANDARD
END:VTIMEZONE
BEGIN:VEVENT
DTSTART;TZID=Europe/London:20221217T170000
DTEND;TZID=Europe/London:20221217T200000
DTSTAMP:20260424T011023
CREATED:20221015T123631Z
LAST-MODIFIED:20221015T123631Z
UID:1334-1671296400-1671307200@fyfieldvillagehall.org.uk
SUMMARY:Children's Christmas Party
DESCRIPTION:Santa’s Elf will lead the fun with dancing\, games\, magic\, balloons and mischievous Christmas Elf silliness. \nThe party is from 5.30pm to 7.30pm and includes a light Christmas tea. \nThe Christmas Party is most suitable for ages 3 – 11. Please note that children must be accompanied by a responsible adult – the bar will be open for drinks and nibbles. \nPlaces cost £5 per child to help cover the cost of the party – reserve the number of places you need through the RSVP below and we’ll be in touch to arrange payment. Places are limited and only guaranteed following receipt of payment.
URL:https://fyfieldvillagehall.org.uk/event/childrens-christmas-party/
END:VEVENT
END:VCALENDAR