BEGIN:VCALENDAR
VERSION:2.0
PRODID:-//FYFIELD VILLAGE HALL - ECPv6.15.20//NONSGML v1.0//EN
CALSCALE:GREGORIAN
METHOD:PUBLISH
X-WR-CALNAME:FYFIELD VILLAGE HALL
X-ORIGINAL-URL:https://fyfieldvillagehall.org.uk
X-WR-CALDESC:Events for FYFIELD VILLAGE HALL
REFRESH-INTERVAL;VALUE=DURATION:PT1H
X-Robots-Tag:noindex
X-PUBLISHED-TTL:PT1H
BEGIN:VTIMEZONE
TZID:Europe/London
BEGIN:DAYLIGHT
TZOFFSETFROM:+0000
TZOFFSETTO:+0100
TZNAME:BST
DTSTART:20220327T010000
END:DAYLIGHT
BEGIN:STANDARD
TZOFFSETFROM:+0100
TZOFFSETTO:+0000
TZNAME:GMT
DTSTART:20221030T010000
END:STANDARD
BEGIN:DAYLIGHT
TZOFFSETFROM:+0000
TZOFFSETTO:+0100
TZNAME:BST
DTSTART:20230326T010000
END:DAYLIGHT
BEGIN:STANDARD
TZOFFSETFROM:+0100
TZOFFSETTO:+0000
TZNAME:GMT
DTSTART:20231029T010000
END:STANDARD
BEGIN:DAYLIGHT
TZOFFSETFROM:+0000
TZOFFSETTO:+0100
TZNAME:BST
DTSTART:20240331T010000
END:DAYLIGHT
BEGIN:STANDARD
TZOFFSETFROM:+0100
TZOFFSETTO:+0000
TZNAME:GMT
DTSTART:20241027T010000
END:STANDARD
END:VTIMEZONE
BEGIN:VEVENT
DTSTART;TZID=Europe/London:20230505T190000
DTEND;TZID=Europe/London:20230505T230000
DTSTAMP:20260423T163402
CREATED:20230315T144740Z
LAST-MODIFIED:20230421T180845Z
UID:1511-1683313200-1683327600@fyfieldvillagehall.org.uk
SUMMARY:Coronation Ceilidh
DESCRIPTION:Kick off the Coronation weekend with a good old-fashioned knees-up! Featuring live calling and music from Step Lively Barn Dance & Ceilidh\, you’re sure to be do-si-do-ing long into the night. \nTickets are £12 each if bought before 22 April (£15 each after). Entry includes a buffet supper. \nDoors open at 7pm for 7.30pm start.
URL:https://fyfieldvillagehall.org.uk/event/coronation-ceilidh/
END:VEVENT
END:VCALENDAR